BEGIN:VCALENDAR
VERSION:2.0
PRODID:-//Medellin Guru - ECPv6.15.12.2//NONSGML v1.0//EN
CALSCALE:GREGORIAN
METHOD:PUBLISH
X-WR-CALNAME:Medellin Guru
X-ORIGINAL-URL:https://medellinguru.com
X-WR-CALDESC:Events for Medellin Guru
REFRESH-INTERVAL;VALUE=DURATION:PT1H
X-Robots-Tag:noindex
X-PUBLISHED-TTL:PT1H
BEGIN:VTIMEZONE
TZID:America/Bogota
BEGIN:STANDARD
TZOFFSETFROM:-0500
TZOFFSETTO:-0500
TZNAME:-05
DTSTART:20230101T000000
END:STANDARD
END:VTIMEZONE
BEGIN:VEVENT
DTSTART;TZID=America/Bogota:20250718T200000
DTEND;TZID=America/Bogota:20250718T220000
DTSTAMP:20260421T040408
CREATED:20250628T020306Z
LAST-MODIFIED:20250628T020306Z
UID:96556-1752868800-1752876000@medellinguru.com
SUMMARY:Maía in Concert
DESCRIPTION:The Maía concert at Teatro Metropolitano is set to be an unforgettable return for the iconic Colombian singer to Medellín\, promising a night filled with passion\, rhythm\, and romance. Maía is celebrated for her powerful voice and charismatic stage presence\, effortlessly blending genres such as pop\, salsa\, and soul\, and enchanting audiences with her hit songs and captivating interpretations. This concert is an opportunity for fans to sing along\, feel the vibrant energy of her music\, and fall in love with her artistry all over again. \n\n📚 History & Interesting Facts:\nMaía is one of Colombia’s most recognized and beloved singers. She rose to prominence in the early 2000s and has since built a successful career\, marked by numerous hit singles and albums. Her musical style often fuses traditional Colombian rhythms with contemporary pop and R&B\, earning her a wide fan base. Maía has performed extensively across Colombia and internationally\, participating in major festivals and events. Her return to Medellín for a concert at the Teatro Metropolitano highlights the venue’s role in hosting top national artists and its significance in the country’s cultural circuit. \nJoin our networking group in Colombia on Facebook\n		\n				\n					\n		\n				\n				\n							\n					\n				\n				\n			\n							\n				\n									\n						Colombia Expats Networking Hub					\n				\n									\n						🌟 Welcome to Colombia Expats Networking Hub! 🌎 Join to our community where you can connect with fellow expatriates\, share your experiences\, and gather invaluable insights about your life in Colombia. 🌆					\n				\n									\n					\n						Join Now!
URL:https://medellinguru.com/event/maia-in-concert/
LOCATION:Teatro Metropolitano José Gutiérrez Gómez\, Cl. 41 # 57 - 30\, La Candelaria\, Medellín\, Antioquia\, Colombia
CATEGORIES:Concerts,Culture,Dance,Music festivals,Musical
ATTACH;FMTTYPE=image/webp:https://medellinguru.com/wp-content/uploads/2025/06/Maia-in-Concert.webp
END:VEVENT
BEGIN:VEVENT
DTSTART;VALUE=DATE:20250712
DTEND;VALUE=DATE:20250721
DTSTAMP:20260421T040408
CREATED:20250709T161851Z
LAST-MODIFIED:20250709T161851Z
UID:96971-1752278400-1753055999@medellinguru.com
SUMMARY:Semana de la Cultura y Fiestas del Carriel - Envigado 2025
DESCRIPTION:From July 12 to 20\, 2025\, the streets\, parks\, and venues of Envigado will be filled with music\, flavors\, color\, and joy for all ages. This year\, attendees can enjoy free performances by artists such as Arelys Henao\, Alex Manga\, Rikarena\, Fernando González\, Agrupación Musical Los Relicarios\, the Dueto Buriticá\, Los Sedosos del Ritmo\, Tola y Maruja\, and local talents\, who will make every corner of the city come alive.\n\nIt will be nine days to pay tribute to the roots\, enjoy the creativity of the artists\, and proudly celebrate the 250th anniversary of Envigado\, which\, according to Municipal Agreement of the Envigado Council 027 of 2003\, observes its classic birthday date on July 14 of each year. \n\n📚 History & Interesting Facts:\n\nThe Carriel Festivals are one of the most emblematic and deeply rooted celebrations in the municipality of Envigado\, Antioquia. Its origins date back to the 1970s\, arising from the need to recognize and honor the cultural and artisanal wealth of the region\, with the carriel as the central symbol. This object\, more than just a simple bag\, is an icon of Antioquian identity\, filled with history\, tradition\, and the cunning nature of the paisa culture. \nAmong the most representative activities are the Silletera Exhibition\, the traditional Mejor Morcilla Contest and Best Envigadeña Empanada\, the Antique Motorcycle Parade\, Porro in the Park\, Electro Rock\, Urban Fest\, and a varied cultural and artistic program for the whole family. \nJoin our networking group in Colombia on Facebook\n		\n				\n					\n		\n				\n				\n							\n					\n				\n				\n			\n							\n				\n									\n						Colombia Expats Networking Hub					\n				\n									\n						🌟 Welcome to Colombia Expats Networking Hub! 🌎 Join to our community where you can connect with fellow expatriates\, share your experiences\, and gather invaluable insights about your life in Colombia. 🌆					\n				\n									\n					\n						Join Now!
URL:https://medellinguru.com/event/fiestas-del-carriel-envigado/
LOCATION:Envigado\, Cra 42 #37S-60\, Envigado\, Antioquia\, Colombia
CATEGORIES:Culture,Dance,Music festivals
ATTACH;FMTTYPE=image/webp:https://medellinguru.com/wp-content/uploads/2025/07/Semana-de-la-Cultura-y-Fiestas-del-Carriel-Envigado-2025.webp
END:VEVENT
BEGIN:VEVENT
DTSTART;TZID=America/Bogota:20250705T170000
DTEND;TZID=America/Bogota:20250705T235900
DTSTAMP:20260421T040408
CREATED:20250627T221528Z
LAST-MODIFIED:20250627T221528Z
UID:96496-1751734800-1751759940@medellinguru.com
SUMMARY:Viva La Salsa
DESCRIPTION:This spectacular salsa concert\, titled Viva la Salsa\, transforms Medellín’s iconic Estadio Atanasio Girardot into a vibrant celebration of Caribbean rhythms. Featuring legendary salsa acts like El Gran Combo de Puerto Rico\, Hermanos Lebrón\, Rey Ruiz\, and Yiyo Sarante performing live\, the July 5th event promises a high-energy show packed with classic and contemporary salsa hits. Held at 5:00 pm\, Viva la Salsa creates a communal atmosphere—fans of all ages are invited to dance\, sing along\, and experience the infectious beat together.  \n\n📚 History & Interesting Facts:\nAtanasio Girardot Stadium\, inaugurated in 1953\, has traditionally been the venue for major concerts and sporting events. Its acoustics and capacity have allowed icons such as Guns N’ Roses\, Madonna\, and Shakira to perform. This event\, organized in cooperation with the Mayor’s Office\, seeks to strengthen open cultural spaces\, recalling the Antioquian tradition of celebrating to the rhythm of salsa and anticipating the celebration of the Flower Fair. \nJoin our networking group in Colombia on Facebook\n		\n				\n					\n		\n				\n				\n							\n					\n				\n				\n			\n							\n				\n									\n						Colombia Expats Networking Hub					\n				\n									\n						🌟 Welcome to Colombia Expats Networking Hub! 🌎 Join to our community where you can connect with fellow expatriates\, share your experiences\, and gather invaluable insights about your life in Colombia. 🌆					\n				\n									\n					\n						Join Now!
URL:https://medellinguru.com/event/viva-la-salsa/
LOCATION:Private: Estadio Atanasio Girardot\, Cra. 74 #48010\, Laureles - Estadio\, Medellín\, Laureles\, Medellín\, Antioquia\, Medellín\, Antioquia\, 050031\, Colombia
CATEGORIES:Concerts,Dance,Music festivals
ATTACH;FMTTYPE=image/webp:https://medellinguru.com/wp-content/uploads/2025/06/Viva-La-Salsa-2025.webp
END:VEVENT
BEGIN:VEVENT
DTSTART;TZID=America/Bogota:20250704T200000
DTEND;TZID=America/Bogota:20250704T235900
DTSTAMP:20260421T040408
CREATED:20250627T215605Z
LAST-MODIFIED:20250627T215605Z
UID:96492-1751659200-1751673540@medellinguru.com
SUMMARY:Tomate’s: Noche de Latin Jazz
DESCRIPTION:Descripción del evento: \n\nA Tomate’s show is a one-and-a-half-hour sonic journey that travels from rumba to samba\, passing through salsa and cumbia\, with jazz elements present both in their original compositions and in their arrangements of jazz standards\, always with a strong dose of improvisation.\n \n\n📚 History & Interesting Facts:\nTomate’s is a project that emerged at the end of 2020\, from the minds of two musicians from Medellín: Teo Grajales and José Tobón. \nThe main objective is to pay tribute to Luis Fernando Mesa\, better known as “Tomate\,” a living piano legend in Colombia. His legacy\, marked by a unique way of improvising and accompanying genres such as salsa\, bolero\, and tropical music\, has led him to travel the world. He has collaborated with great figures such as Daniel Santos\, Joe Arroyo\, Fruko\, Piper Pimienta\, and Alci Acosta\, among many others. \nJoin our networking group in Colombia on Facebook\n		\n				\n					\n		\n				\n				\n							\n					\n				\n				\n			\n							\n				\n									\n						Colombia Expats Networking Hub					\n				\n									\n						🌟 Welcome to Colombia Expats Networking Hub! 🌎 Join to our community where you can connect with fellow expatriates\, share your experiences\, and gather invaluable insights about your life in Colombia. 🌆					\n				\n									\n					\n						Join Now!
URL:https://medellinguru.com/event/tomates-noche-de-latin-jazz/
LOCATION:Private: Centro Cultura del Club del Jazz\, Calle 54 45-11\, Medellín\, Antioquia\, Colombia
CATEGORIES:Dance,Music festivals,Musical
ATTACH;FMTTYPE=image/webp:https://medellinguru.com/wp-content/uploads/2025/06/Tomates-Noche-de-Latin-Jazz.webp
ORGANIZER;CN="Centro Cultural del Club del Jazz":MAILTO:direccion@elclubdeljazz.com
END:VEVENT
BEGIN:VEVENT
DTSTART;TZID=America/Bogota:20250704T200000
DTEND;TZID=America/Bogota:20250704T235900
DTSTAMP:20260421T040408
CREATED:20250627T214031Z
LAST-MODIFIED:20250627T214031Z
UID:96487-1751659200-1751673540@medellinguru.com
SUMMARY:Son de la Nubia: Charanga & Pasebol Without Accordion
DESCRIPTION:Son de la Nubia: Charanga y pasebol sin acordeón explores the rich tapestry of Colombian popular music\, with a particular focus on the “charanga” and “pasebol” genres\, but notably without the use of an accordion. This deliberate choice hints at a fresh interpretation of traditional sounds\, perhaps emphasizing percussion\, wind instruments\, or string arrangements to create a distinctive sonic landscape. \n \n\n📚 History & Interesting Facts:\nCharanga is a Cuban ensembles that play a style of dance music\, characterized by flutes\, violins\, and a rhythm section. “Pasebol” is a regional variation or fusion\, relating to “paseo” (a cumbia subgenre) and bolero or another popular style. The exclusion of the accordion is significant\, aiming to redefine or reimagine these traditional sounds. \nJoin our networking group in Colombia on Facebook\n		\n				\n					\n		\n				\n				\n							\n					\n				\n				\n			\n							\n				\n									\n						Colombia Expats Networking Hub					\n				\n									\n						🌟 Welcome to Colombia Expats Networking Hub! 🌎 Join to our community where you can connect with fellow expatriates\, share your experiences\, and gather invaluable insights about your life in Colombia. 🌆					\n				\n									\n					\n						Join Now!
URL:https://medellinguru.com/event/son-de-la-nubia-charanga-pasebol-sin-acordeon/
LOCATION:Private: La Pascasia\, Calle 47 #43 88\, Medellín\, Antioquia\, Colombia
CATEGORIES:Dance,Music festivals
ATTACH;FMTTYPE=image/webp:https://medellinguru.com/wp-content/uploads/2025/06/Son-de-la-Nubia-Charanga-Pasebol-Without-Accordion.webp
END:VEVENT
BEGIN:VEVENT
DTSTART;TZID=America/Bogota:20250704T190000
DTEND;TZID=America/Bogota:20250706T220000
DTSTAMP:20260421T040408
CREATED:20250627T211223Z
LAST-MODIFIED:20250627T211602Z
UID:96468-1751655600-1751839200@medellinguru.com
SUMMARY:Festival de Tango de Jericó - Bandoneonisimo
DESCRIPTION:In its seventh edition\, the Bandoneonísimo Festival returns to fill the mountains of Jericó with tango\, with a heartfelt tribute to Argentina\, cradle of the bandoneon and the tango soul. From July 4 to 6\, this cultural gathering brings together artists\, musicians\, children\, and tango enthusiasts in a program that honors memory\, identity\, and music as a vehicle for social transformation.\n\nWith live performances\, master classes\, talks\, and an emotional central concert with international guests such as Pablo Jaurena and the Orquesta El Empuje\, the festival continues to sow art\, memory\, and passion for tango in southwestern Antioquia. \n\n📚 History & Interesting Facts:\nJericó\, a charming colonial town known for its religious devotion and stunning landscapes\, has embraced tango\, particularly the melancholic yet passionate sound of the bandoneon. The festival\, “Bandoneonisimo\,” is a testament to this embrace\, aiming to consolidate Jericó as a significant destination for tango culture in Colombia. Also\, as the name “Bandoneonisimo” suggests\, the festival consistently places the bandoneon at its core. This might involve dedicated bandoneon performances\, masterclasses\, or discussions about the instrument’s role in tango. \nThe festival was conceived with several key objectives:\n\nTribute to Argentina: It serves as a direct homage to Argentina\, the birthplace of tango\, recognizing its profound cultural impact.\nPromotion of Tango Culture: It seeks to preserve\, promote\, and disseminate tango music and dance\, ensuring its continuity and appreciation among new generations.\nArtistic Exchange: It brings together local\, national\, and international artists\, musicians\, dancers\, and pedagogues\, fostering a rich environment for artistic exchange and collaboration.\nCommunity Engagement: A significant aspect of the festival is its focus on community. It often includes workshops\, masterclasses\, and free concerts\, making tango accessible to children\, young people\, and the general public.\nCultural Tourism: It aims to attract cultural tourists to Jericó\, showcasing not only its natural beauty and heritage but also its vibrant artistic scene.\n\nEconomic Development: By drawing visitors and encouraging local participation\, the festival contributes to the local economy. \nJoin our networking group in Colombia on Facebook\n		\n				\n					\n		\n				\n				\n							\n					\n				\n				\n			\n							\n				\n									\n						Colombia Expats Networking Hub					\n				\n									\n						🌟 Welcome to Colombia Expats Networking Hub! 🌎 Join to our community where you can connect with fellow expatriates\, share your experiences\, and gather invaluable insights about your life in Colombia. 🌆					\n				\n									\n					\n						Join Now!
URL:https://medellinguru.com/event/festival-de-tango-de-jerico/
LOCATION:Jérico\, Carrera 5 Nr. 7-50 Palacio Municipal "Santiago Santamaría)\, Jericó\, Antioquia\, Colombia
CATEGORIES:Culture,Dance,Music festivals
ATTACH;FMTTYPE=image/webp:https://medellinguru.com/wp-content/uploads/2025/06/Festival-de-Tango-de-Jerico-Bandoneonisimo.webp
END:VEVENT
BEGIN:VEVENT
DTSTART;TZID=America/Bogota:20250704T190000
DTEND;TZID=America/Bogota:20250704T220000
DTSTAMP:20260421T040408
CREATED:20250627T213255Z
LAST-MODIFIED:20250627T213322Z
UID:96481-1751655600-1751666400@medellinguru.com
SUMMARY:Mi Vida es un Bolero by Cesar Mora
DESCRIPTION:Mi Vida Es Un Bolero by Cesar Mora is an enchanting musical journey presented by the acclaimed actor\, singer\, and composer César Mora. This concert is an intimate exploration of the bolero genre\, a cornerstone of Latin American romantic music\, through the lens of Mora’s personal experiences and the songs that have shaped his life. Audiences can expect a heartfelt performance\, showcasing Mora’s rich vocal talents and his profound connection to these timeless melodies. The show will weave together storytelling and musical interpretation\, offering a unique perspective on the power and emotion of the bolero. \n  \n\n📚 History & Interesting Facts:\nCésar Mora is a highly respected and versatile figure in Colombian arts. He is widely known for his extensive career as an actor in film and television\, but he is also a gifted singer\, particularly celebrated for his interpretations of boleros and salsa. The bolero itself has a rich history in Latin America\, emerging in Cuba in the late 19th century and spreading throughout the region\, where it became synonymous with romantic expression.\n \nJoin our networking group in Colombia on Facebook\n		\n				\n					\n		\n				\n				\n							\n					\n				\n				\n			\n							\n				\n									\n						Colombia Expats Networking Hub					\n				\n									\n						🌟 Welcome to Colombia Expats Networking Hub! 🌎 Join to our community where you can connect with fellow expatriates\, share your experiences\, and gather invaluable insights about your life in Colombia. 🌆					\n				\n									\n					\n						Join Now!
URL:https://medellinguru.com/event/mi-vida-es-un-bolero-cesar-mora/
LOCATION:Private: Teatro El Tesoro\, Cra. 25a #1A Sur - 45\, Medellín\, Antioquia\, Colombia
CATEGORIES:Concerts,Dance,Music festivals
ATTACH;FMTTYPE=image/webp:https://medellinguru.com/wp-content/uploads/2025/06/Mi-Vida-es-un-Bolero-by-Cesar-Mora.webp
ORGANIZER;CN="El Tesoro Parque Comercial":MAILTO:servicioalcliente@eltesoro.com.co
END:VEVENT
BEGIN:VEVENT
DTSTART;VALUE=DATE:20250624
DTEND;VALUE=DATE:20250701
DTSTAMP:20260421T040408
CREATED:20250610T143533Z
LAST-MODIFIED:20250610T143533Z
UID:95810-1750723200-1751327999@medellinguru.com
SUMMARY:Festival Internacional de Tango de Medellín - International Tango Festival
DESCRIPTION:This year\, the International Tango Festival will reach its 19th edition. The event will begin on June 24th and end on June 30th\, a week in which Medellín will vibrate to the rhythm of this genre that has a tradition of decades in the city. \nThe Secretariat of Citizen Culture\, responsible for organizing the Festival\, has already announced the program for the next edition. In 2025\, the event will be named Gardel\, 90 years of an eternal song\, in honor of the commemoration of the 90th anniversary of the death of the Argentine artist\, one of the greatest exponents of tango internationally. \nThe inauguration event of the Festival will be at the Olaya Herrera Airport\, where a show will pay tribute to Gardel. In this space\, with the help of national and international artists\, some of the artist’s greatest hits\, such as Mi Buenos Aires Querido\, Volver\, and El día que me quieras\, will be remembered. \nOther venues for the 19th edition of this event will be the Claustro Comfama San Ignacio\, the Manrique neighborhood\, Plaza Gardel\, and the Teatro Carlos Vieco. \n📚 History & Interesting Facts:\nMedellín’s connection to tango dates back to the tragic death of Carlos Gardel in the city in 1935\, an event that cemented its place in tango history. The festival serves as a tribute to Gardel’s legacy and the enduring influence of tango in Medellín’s cultural identity. Over the years\, it has grown into one of the most significant tango festivals globally\, reflecting the city’s commitment to preserving and celebrating this iconic art form. \nJoin our networking group in Colombia on Facebook\n		\n				\n					\n		\n				\n				\n							\n					\n				\n				\n			\n							\n				\n									\n						Colombia Expats Networking Hub					\n				\n									\n						🌟 Welcome to Colombia Expats Networking Hub! 🌎 Join to our community where you can connect with fellow expatriates\, share your experiences\, and gather invaluable insights about your life in Colombia. 🌆					\n				\n									\n					\n						Join Now!
URL:https://medellinguru.com/event/festival-internacional-de-tango/
LOCATION:Private: Medellin\, Medellín\, Antioquia\, Medellín\, Antioquia\, Colombia
CATEGORIES:Dance,Musical
ATTACH;FMTTYPE=image/webp:https://medellinguru.com/wp-content/uploads/2025/06/Festival-Internacional-de-Tango-de-Medellin.webp
END:VEVENT
BEGIN:VEVENT
DTSTART;VALUE=DATE:20241013
DTEND;VALUE=DATE:20241015
DTSTAMP:20260421T040408
CREATED:20241009T205329Z
LAST-MODIFIED:20241009T210016Z
UID:88311-1728777600-1728950399@medellinguru.com
SUMMARY:Dance in Medellin: Escenario Dance Open
DESCRIPTION:Get ready for an exciting celebration of dance as Escenario Dance Open returns for its third season in Medellín\n This year\, attendees can enjoy four dynamic dance categories: Ballet\, Contemporary Dance\, Jazz Dance\, and Urban Dance\, all within a competitive format. \nThe event will feature an esteemed panel of international judges\, showcasing the talents of renowned Colombian artists. This is a fantastic opportunity to witness some of the best dance competitions in the country. \nMark your calendars for October 13 and 14\, 2024\, and make your way to Teatro-Auditorio La Enseñanza. Don’t miss out on this vibrant showcase of talent and artistry—join in the celebration of movement and creativity at Escenario Dance Open. \nJoin our networking group in Colombia on Facebook\n		\n				\n					\n		\n				\n				\n							\n					\n				\n				\n			\n							\n				\n									\n						Colombia Expats Networking Hub					\n				\n									\n						🌟 Welcome to Colombia Expats Networking Hub! 🌎 Join to our community where you can connect with fellow expatriates\, share your experiences\, and gather invaluable insights about your life in Colombia. 🌆					\n				\n									\n					\n						Join Now!
URL:https://medellinguru.com/event/escenario-dance-open/
LOCATION:Private: Auditorio La Enseñanza\, Calle 9 Sur #37-345\, Medellín\, Antioquia\, Colombia
CATEGORIES:Audiovisual,Dance
ATTACH;FMTTYPE=image/jpeg:https://medellinguru.com/wp-content/uploads/2024/10/Escenario-Dance-Open.jpg
ORGANIZER;CN="Escenario Dance Open":MAILTO:escenariodanceopen@gmail.com
END:VEVENT
END:VCALENDAR