BEGIN:VCALENDAR
VERSION:2.0
PRODID:-//Medellin Guru - ECPv6.15.12.2//NONSGML v1.0//EN
CALSCALE:GREGORIAN
METHOD:PUBLISH
X-WR-CALNAME:Medellin Guru
X-ORIGINAL-URL:https://medellinguru.com
X-WR-CALDESC:Events for Medellin Guru
REFRESH-INTERVAL;VALUE=DURATION:PT1H
X-Robots-Tag:noindex
X-PUBLISHED-TTL:PT1H
BEGIN:VTIMEZONE
TZID:America/Bogota
BEGIN:STANDARD
TZOFFSETFROM:-0500
TZOFFSETTO:-0500
TZNAME:-05
DTSTART:20230101T000000
END:STANDARD
END:VTIMEZONE
BEGIN:VEVENT
DTSTART;TZID=America/Bogota:20241010T190000
DTEND;TZID=America/Bogota:20241010T210000
DTSTAMP:20260421T234735
CREATED:20241004T221527Z
LAST-MODIFIED:20241004T222412Z
UID:88116-1728586800-1728594000@medellinguru.com
SUMMARY:Show in Medellin: El Universo y la Orquesta Filarmónica
DESCRIPTION:Embark on a Live Journey Through the Universe!\nJoin the Medellín Philharmonic Orchestra for an unforgettable outdoor experience at the Planetario de Medellín. On October 10 at 7 PM\, immerse yourself in a spectacular show that beautifully blends music and astronomy. \nThis unique event takes you on a cosmic journey\, where you’ll witness the sunrise on Earth\, explore the moon’s hidden side\, venture to the sun’s corona\, and reach the edge of the known universe. It’s an extraordinary opportunity to experience the wonders of the cosmos through the power of music. \nDon’t miss this chance to travel further than ever before. Gather your friends and family and come to Planetario for an evening filled with awe and inspiration. \nJoin our networking group in Colombia on Facebook\n		\n				\n					\n		\n				\n				\n							\n					\n				\n				\n			\n							\n				\n									\n						Colombia Expats Networking Hub					\n				\n									\n						🌟 Welcome to Colombia Expats Networking Hub! 🌎 Join to our community where you can connect with fellow expatriates\, share your experiences\, and gather invaluable insights about your life in Colombia. 🌆					\n				\n									\n					\n						Join Now!
URL:https://medellinguru.com/event/el-universo-y-la-orquesta-filarmonica-de-medellin/
LOCATION:Planetario de Medellín\, Carrera 52 #71 - 117\, Medellín\, Antioquia\, Colombia
CATEGORIES:Audiovisual,Concerts,Culture
ATTACH;FMTTYPE=image/png:https://medellinguru.com/wp-content/uploads/2024/10/Navegacion-por-el-universo-con-orquesta.png
ORGANIZER;CN="Planetario de Medellin":MAILTO:comunicaciones@parqueexplora.org
END:VEVENT
BEGIN:VEVENT
DTSTART;VALUE=DATE:20241007
DTEND;VALUE=DATE:20241015
DTSTAMP:20260421T234735
CREATED:20241004T211207Z
LAST-MODIFIED:20241004T213252Z
UID:88081-1728259200-1728950399@medellinguru.com
SUMMARY:Festival in Salgar\, Antioquia: Fiestas del Cacique Barroso
DESCRIPTION:Get ready to dive into peasant roots in Cacique Barroso Festival!\nThe Fiestas del Cacique Barroso are coming to Salgar\, Antioquia. This incredible festival\, running from October 7 to 14\, 2024\, is a celebration of music\, dance\, tradition\, and culture that you won’t want to miss. \nImmerse yourself in the colorful parades\, enjoy local artistic performances\, and experience the warmth and hospitality of the community. This festival is the perfect opportunity to connect with friends and family while embracing the lively spirit of Salgar. \nThe Fiestas del Cacique Barroso highlight the rich cultural heritage of the region\, showcasing traditional music and dances that will get everyone on their feet. Each day is packed with activities that reflect the vibrancy and uniqueness of Salgar’s traditions. \nWhether you’re a local or a visitor\, the festival promises unforgettable memories filled with joy and celebration. Bring your loved ones and experience the festivities like a true salgareño in the heart of Antioquia. \nJoin our networking group in Colombia on Facebook\n		\n				\n					\n		\n				\n				\n							\n					\n				\n				\n			\n							\n				\n									\n						Colombia Expats Networking Hub					\n				\n									\n						🌟 Welcome to Colombia Expats Networking Hub! 🌎 Join to our community where you can connect with fellow expatriates\, share your experiences\, and gather invaluable insights about your life in Colombia. 🌆					\n				\n									\n					\n						Join Now!
URL:https://medellinguru.com/event/fiestas-del-cacique-barroso/
LOCATION:Private: Salgar\, Antioquia\, Calle 29 No.30-17\, Salgar\, Antioquia\, 056470\, Colombia
CATEGORIES:Culture
ATTACH;FMTTYPE=image/jpeg:https://medellinguru.com/wp-content/uploads/2024/10/Fiestas-del-Cacique-Barroso.jpg
ORGANIZER;CN="Alcald%C3%ADa de Salgar":MAILTO:contactenos@salgar-antioquia.gov.co
END:VEVENT
BEGIN:VEVENT
DTSTART;VALUE=DATE:20241007
DTEND;VALUE=DATE:20241013
DTSTAMP:20260421T234735
CREATED:20241004T174508Z
LAST-MODIFIED:20241004T213624Z
UID:88073-1728259200-1728777599@medellinguru.com
SUMMARY:Festival in Medellin: Festival Colombiano de Teatro
DESCRIPTION:Experience the 23rd Colombian Theatre Festival in Medellín: Celebrating Creative Diversity.\n\nThe 23rd Colombian Theatre Festival in Medellín is set to ignite the stage with the theme “Creative Diversity\,” showcasing the rich tapestry of creative perspectives within Colombian theater. This vibrant festival invites everyone to immerse themselves in a week filled with performances\, both in-person and online\, alongside academic events\, exhibitions\, tributes\, and collaborative meetings. \nSupported by the Alcaldía de Medellín through the 2024 Cultural Promotion and Stimulus Program and the Ministry of Culture\, this festival promises to be a highlight for theater lovers. It thrives thanks to public calls for participation and contributions from organizations like ASENCULTURA\, REI – Red de Escena Iberoamericana\, and ARONA. Most importantly\, the festival is a collective effort of theaters\, groups\, artists\, and audiences who come together year after year to celebrate the art of performance. \nThis year’s festival is an excellent opportunity to explore the diversity and innovation that characterize Colombian theater. Don’t miss the chance to be part of this enriching cultural experience in Medellín! Mark your calendars and join fellow enthusiasts from October 7 -12 to celebrate the creativity and diversity of the Colombian stage. \nJoin our networking group in Colombia on Facebook\n		\n				\n					\n		\n				\n				\n							\n					\n				\n				\n			\n							\n				\n									\n						Colombia Expats Networking Hub					\n				\n									\n						🌟 Welcome to Colombia Expats Networking Hub! 🌎 Join to our community where you can connect with fellow expatriates\, share your experiences\, and gather invaluable insights about your life in Colombia. 🌆					\n				\n									\n					\n						Join Now!
URL:https://medellinguru.com/event/festival-colombiano-de-teatro/
LOCATION:Private: Medellin\, Medellín\, Antioquia\, Medellín\, Antioquia\, Colombia
CATEGORIES:Culture
ATTACH;FMTTYPE=image/jpeg:https://medellinguru.com/wp-content/uploads/2024/10/Festival-in-Medellin-Festival-Colombiano-de-Teatro-1.jpg
ORGANIZER;CN="Corporaci%C3%B3n Atenea Porfirio Barba Jacob":MAILTO:comunicacionateneo@gmail.com
END:VEVENT
BEGIN:VEVENT
DTSTART;VALUE=DATE:20241007
DTEND;VALUE=DATE:20241015
DTSTAMP:20260421T234735
CREATED:20241004T154906Z
LAST-MODIFIED:20241004T213427Z
UID:88053-1728259200-1728950399@medellinguru.com
SUMMARY:Kid Workshops in Medellin: Talleres Vacacionales
DESCRIPTION:Experience a Week of Kid Workshops at Museo El Castillo: October 7-11\, 2024.\n\nThis October break\, Museo El Castillo invites kids and young people of all ages to participate in their unique Talleres Vacacionales or “Vacation Workshops”. The museum has partnered with the School of Arts to create an exciting program filled with creativity and learning. Participants will have the opportunity to engage in artistic workshops and enjoy playful outdoor activities in the stunning gardens of El Castillo. \nEach day includes a guided tour of the museum\, specially designed for each group\, allowing participants to explore the rich art and history within its walls. This is a fantastic opportunity for budding artists and curious minds alike to foster creativity\, make new friends\, and discover the wonders of art. \nSpaces are limited\, so early registration is encouraged to secure a spot in these enriching Talleres Vacacionales. Don’t miss out on this chance for a week filled with artistic exploration and fun at Museo El Castillo. \nJoin our networking group in Colombia on Facebook\n		\n				\n					\n		\n				\n				\n							\n					\n				\n				\n			\n							\n				\n									\n						Colombia Expats Networking Hub					\n				\n									\n						🌟 Welcome to Colombia Expats Networking Hub! 🌎 Join to our community where you can connect with fellow expatriates\, share your experiences\, and gather invaluable insights about your life in Colombia. 🌆					\n				\n									\n					\n						Join Now!
URL:https://medellinguru.com/event/talleres-vacacionales/
LOCATION:Private: Museo El Castillo\, Cl. 9 Sur #32-269\, Medellín\, Antioquia\, Colombia
CATEGORIES:Culture,Workshops
ATTACH;FMTTYPE=image/jpeg:https://medellinguru.com/wp-content/uploads/2024/10/Talleres-Vacacionales.jpg
ORGANIZER;CN="Escuela de Artes Museo El Castillo":MAILTO:secretariaescueladeartes@museoelcastillo.org
END:VEVENT
BEGIN:VEVENT
DTSTART;TZID=America/Bogota:20241006T173000
DTEND;TZID=America/Bogota:20241006T210000
DTSTAMP:20260421T234735
CREATED:20241004T003958Z
LAST-MODIFIED:20241004T213704Z
UID:88030-1728235800-1728248400@medellinguru.com
SUMMARY:Concert in Medellin: Rozalen
DESCRIPTION:Experience Rozalen live\nDon’t miss the chance to see Rozalen live\, one of the most prominent voices in Spanish pop and singer-songwriter music\, as she returns to the stage to present her stunning new album\, ‘EL ABRAZO’.  The date is October 6\, 2024\, at 5:30 PM at Teatro Pablo Tobón Uribe for an unforgettable musical experience. \nThis concert features brilliant tracks from her latest project\, recorded over two years in Madrid and Miami\, and produced by Ismael Guijarro. Expect to hear hits like ‘Tres Días en Cartagena’ featuring Carlos Vives and ‘Lo tengo claro’\, along with many more. Rozalen\, known for her timeless anthems like ‘La Puerta Violeta’ and ‘Vivir’\, dives into a rich blend of pop and folk melodies influenced by both Spanish and Latin American styles. \nIn line with her commitment to inclusivity\, all concerts on this tour will feature live sign language interpretation by Beatriz Romero\, ensuring that everyone can enjoy the show. \nGet your tickets for this special evening and experience the magic of Rozalen live. Bring your friends and family to celebrate music that speaks to the heart and soul. \nJoin our networking group in Colombia on Facebook\n		\n				\n					\n		\n				\n				\n							\n					\n				\n				\n			\n							\n				\n									\n						Colombia Expats Networking Hub					\n				\n									\n						🌟 Welcome to Colombia Expats Networking Hub! 🌎 Join to our community where you can connect with fellow expatriates\, share your experiences\, and gather invaluable insights about your life in Colombia. 🌆					\n				\n									\n					\n						Join Now!
URL:https://medellinguru.com/event/rozalen-en-concierto/
LOCATION:Private: Teatro Pablo Tobón Uribe\, Cra. 40 #51-24\, Medellín\, Antioquia\, Colombia
CATEGORIES:Concerts,Culture
ATTACH;FMTTYPE=image/png:https://medellinguru.com/wp-content/uploads/2024/10/Rozalen-en-Concierto.png
ORGANIZER;CN="Monoara%C3%B1a Producciones":MAILTO:sergioarango@monoaranaestudio.com
END:VEVENT
BEGIN:VEVENT
DTSTART;TZID=America/Bogota:20241006T110000
DTEND;TZID=America/Bogota:20241006T130000
DTSTAMP:20260421T234735
CREATED:20241004T010545Z
LAST-MODIFIED:20241004T213732Z
UID:88041-1728212400-1728219600@medellinguru.com
SUMMARY:Theatre Play in Medellin: Leonora y los sesenta granos de cafe
DESCRIPTION:Experience “The 60 Coffee Beans”: A Musical Tale Inspired by Beethoven\nDiscover a captivating story inspired by Beethoven’s only opera\, “Fidelio”\, on Sunday\, October 6\, 2024\, from 11:00 AM to 12:30 PM in Teatro Metropolitano. \nThis enchanting musical tale\, titled “The 60 Coffee Beans\,” draws from the legend that Beethoven began each day with exactly sixty coffee beans that he meticulously counted\, smelled\, ground\, and brewed. The narrative celebrates his unique morning ritual and incorporates elements from his Symphony No. 6\, “Pastoral\,” reflecting his deep love for nature. \nDon’t miss this opportunity to enjoy a delightful experience that combines storytelling and music. Perfect for families and anyone who appreciates classical music\, this event invites you to immerse yourself in the beauty and emotion of Beethoven’s work. \nJoin our networking group in Colombia on Facebook\n		\n				\n					\n		\n				\n				\n							\n					\n				\n				\n			\n							\n				\n									\n						Colombia Expats Networking Hub					\n				\n									\n						🌟 Welcome to Colombia Expats Networking Hub! 🌎 Join to our community where you can connect with fellow expatriates\, share your experiences\, and gather invaluable insights about your life in Colombia. 🌆					\n				\n									\n					\n						Join Now!
URL:https://medellinguru.com/event/leonora-y-los-sesenta-granos-de-cafe/
LOCATION:Private: Teatro Metropolitano de Medellín\, Calle 41 No. 57 - 30\, Medellín\, Antioquia\, 050012\, Colombia
CATEGORIES:Culture
ATTACH;FMTTYPE=image/jpeg:https://medellinguru.com/wp-content/uploads/2024/10/Leonora-y-los-sesenta-granos-de-cafe.jpg
ORGANIZER;CN="Asociaci%C3%B3n Medell%C3%ADn Cultural":MAILTO:comunicaciones@teatrometropolitano.org
END:VEVENT
BEGIN:VEVENT
DTSTART;TZID=America/Bogota:20241005T170000
DTEND;TZID=America/Bogota:20241005T200000
DTSTAMP:20260421T234735
CREATED:20241003T213528Z
LAST-MODIFIED:20241004T213808Z
UID:88009-1728147600-1728158400@medellinguru.com
SUMMARY:Concert in Medellin: Pianoacademy y Orquesta Sinfonica Eafit
DESCRIPTION:Experience Classical Music with Pianoacademy and Orquesta Sinfónica EAFIT\nJoin us at Teatro El Tesoro on October 5th at 5:00 PM for a captivating educational concert featuring Pianoacademy and Orquesta Sinfonica de EAFIT. This is a perfect opportunity for families to enjoy and appreciate classical music together! \nThe concert will showcase two stunning works: Scheherazade by Nikolai Rimsky-Korsakov and Pictures at an Exhibition by Modest Mussorgsky. These masterpieces promise to take you on a magical journey through sound\, storytelling\, and imagination. \nScheherazade weaves an enchanting tale inspired by the famous Arabian Nights\, filled with rich orchestral textures and vibrant themes. Meanwhile\, Pictures at an Exhibition paints a vivid auditory picture inspired by Mussorgsky’s visit to an art exhibition\, each movement bringing a different artwork to life. \nThis event is designed not only to entertain but also to educate\, making it ideal for music lovers of all ages. Whether you’re a long-time classical music enthusiast or a newcomer\, this concert is a fantastic way to explore the beauty of orchestral music. \nDon’t miss this unique opportunity to experience the talent of Pianoacademy and Orquesta Sinfonica de EAFIT live! Bring your family and friends for an evening filled with culture and inspiration. \nJoin our networking group in Colombia on Facebook\n		\n				\n					\n		\n				\n				\n							\n					\n				\n				\n			\n							\n				\n									\n						Colombia Expats Networking Hub					\n				\n									\n						🌟 Welcome to Colombia Expats Networking Hub! 🌎 Join to our community where you can connect with fellow expatriates\, share your experiences\, and gather invaluable insights about your life in Colombia. 🌆					\n				\n									\n					\n						Join Now!
URL:https://medellinguru.com/event/pianoacademy-and-orquesta-sinfonica-eafit/
LOCATION:Private: Teatro El Tesoro\, Cra. 25a #1A Sur - 45\, Medellín\, Antioquia\, Colombia
CATEGORIES:Culture,Music festivals
ATTACH;FMTTYPE=image/jpeg:https://medellinguru.com/wp-content/uploads/2024/10/Pianoacademy-Orquesta-Sinfonica-de-Eafit.jpg
ORGANIZER;CN="El Tesoro Parque Comercial":MAILTO:servicioalcliente@eltesoro.com.co
END:VEVENT
BEGIN:VEVENT
DTSTART;TZID=America/Bogota:20241005T160000
DTEND;TZID=America/Bogota:20241005T220000
DTSTAMP:20260421T234735
CREATED:20241004T001446Z
LAST-MODIFIED:20241004T213842Z
UID:88018-1728144000-1728165600@medellinguru.com
SUMMARY:Musical in Medellin: Charlie y la fábrica de Chocolates
DESCRIPTION:Charlie and the Chocolate Factory: The Musical\nGet ready for a magical adventure as Charlie and the Chocolate Factory The Musical comes to life at Teatro La Enseñanza on October 5th! Follow the heartwarming journey of Charlie Bucket\, a kind-hearted boy from a poor family\, who wins a contest to visit the extraordinary chocolate factory of the eccentric Willy Wonka and his team of Oompa-Loompas. \nCharlie is joined by four other children from around the globe\, each bringing their own unique story to this enchanting world filled with fantastic flavors and creativity. This musical encourages imagination and reminds us of the importance of hope and dreams\, teaching valuable lessons about humility\, kindness\, and friendship over greed and ambition. \nWith performances at 4:00 PM and 8:00 PM\, there’s no excuse to miss this delightful show. Bring your family and friends to enjoy a heartwarming experience that will leave everyone smiling. \nJoin our networking group in Colombia on Facebook\n		\n				\n					\n		\n				\n				\n							\n					\n				\n				\n			\n							\n				\n									\n						Colombia Expats Networking Hub					\n				\n									\n						🌟 Welcome to Colombia Expats Networking Hub! 🌎 Join to our community where you can connect with fellow expatriates\, share your experiences\, and gather invaluable insights about your life in Colombia. 🌆					\n				\n									\n					\n						Join Now!
URL:https://medellinguru.com/event/charlie-y-la-fabrica-de-chocolates/
LOCATION:Private: Auditorio La Enseñanza\, Calle 9 Sur #37-345\, Medellín\, Antioquia\, Colombia
CATEGORIES:Culture,Music festivals
ATTACH;FMTTYPE=image/jpeg:https://medellinguru.com/wp-content/uploads/2024/10/Fabrica-de-Chocolates-El-Musical.jpg
ORGANIZER;CN="Broadway en Medell%C3%ADn":MAILTO:info@broadwayenmedellin.com
END:VEVENT
BEGIN:VEVENT
DTSTART;TZID=America/Bogota:20241005T120000
DTEND;TZID=America/Bogota:20241005T210000
DTSTAMP:20260421T234735
CREATED:20241003T202354Z
LAST-MODIFIED:20241004T213929Z
UID:87993-1728129600-1728162000@medellinguru.com
SUMMARY:Craft Beer Festival in Medellin: Oktoberfest
DESCRIPTION:Welcome to Oktoberfest: The Most Anticipated Beer Event in Colombia!\nGet ready for an unforgettable experience at Oktoberfest Artesanal Medellin\, the largest craft beer festival in Latin America! On Saturday\, October 5\, 2024\, at 12:00 PM\, dive into the vibrant world of craft beer. \nExplore over 80 local breweries from across the country\, each offering a unique selection of flavors and styles. With more than 300 artisanal beers to sample\, there’s something for everyone—whether you’re a seasoned enthusiast or simply curious to explore. \nJoin fellow beer lovers in celebrating Colombia’s rich brewing culture\, and enjoy a day filled with good vibes\, delicious food\, and amazing beers. This festival is a fantastic opportunity to taste\, learn\, and connect with passionate local brewers. \nDon’t miss out on this incredible event that promises to be a highlight of the year! Gather your friends and raise a glass together at Oktoberfest Artesanal Medellin. \nJoin the networking group in Colombia on Facebook\n		\n				\n					\n		\n				\n				\n							\n					\n				\n				\n			\n							\n				\n									\n						Colombia Expats Networking Hub					\n				\n									\n						🌟 Welcome to Colombia Expats Networking Hub! 🌎 Join to our community where you can connect with fellow expatriates\, share your experiences\, and gather invaluable insights about your life in Colombia. 🌆					\n				\n									\n					\n						Join Now!					\n					\n							\n						\n						\n				\n				\n					\n				\n				\n		\n 
URL:https://medellinguru.com/event/oktoberfest/
LOCATION:Jardín Botánico\, Cl. 73 #51d-14\, Medellin\, Antioquia\, Colombia
CATEGORIES:Culture,Music festivals
ATTACH;FMTTYPE=image/jpeg:https://medellinguru.com/wp-content/uploads/2024/10/Oktoberfest-Artesanal-Medellin.jpg
END:VEVENT
BEGIN:VEVENT
DTSTART;VALUE=DATE:20240929
DTEND;VALUE=DATE:20241103
DTSTAMP:20260421T234735
CREATED:20241003T195000Z
LAST-MODIFIED:20241004T214107Z
UID:87985-1727568000-1730591999@medellinguru.com
SUMMARY:Festival in Medellin: XV Festival Flamenco Ciudad de Medellin
DESCRIPTION:Flamenco Takes Medellin!\nExciting news for culture lovers! The 15th edition of the Flamenco Festival is arriving in Medellin\, promising an incredible lineup of talent and artistry. This year\, the festival showcases the vibrant and diverse world of flamenco\, featuring performances from some of the best artists in the genre. \nThe festival aims to spread the beauty of flamenco to a wider audience\, making it accessible to everyone. Attendees can expect an array of captivating performances that highlight the passion and energy of this traditional Spanish art form. \nWhether you’re a long-time fan of flamenco or new to its rhythms\, this festival is a fantastic opportunity to immerse yourself in its rich culture. Don’t miss out on the chance to experience the magic of flamenco right here in Medellín. \nGet ready to enjoy a truly unforgettable celebration of music and dance! \nJoin our networking group in Colombia on Facebook\n		\n				\n					\n		\n				\n				\n							\n					\n				\n				\n			\n							\n				\n									\n						Colombia Expats Networking Hub					\n				\n									\n						🌟 Welcome to Colombia Expats Networking Hub! 🌎 Join to our community where you can connect with fellow expatriates\, share your experiences\, and gather invaluable insights about your life in Colombia. 🌆					\n				\n									\n					\n						Join Now!
URL:https://medellinguru.com/event/xv-festival-flamenco-ciudad-de-medellin/
LOCATION:Private: Medellin\, Medellín\, Antioquia\, Medellín\, Antioquia\, Colombia
CATEGORIES:Culture
ATTACH;FMTTYPE=image/jpeg:https://medellinguru.com/wp-content/uploads/2024/10/XV-Festival-Flamenco-Medellin.jpg
ORGANIZER;CN="Corporaci%C3%B3n Az%C3%BAcar%2C Canela y Clavo":MAILTO:info@azucarcanelayclavo.com.co
END:VEVENT
BEGIN:VEVENT
DTSTART;TZID=America/Bogota:20240406T180000
DTEND;TZID=America/Bogota:20240406T200000
DTSTAMP:20260421T234735
CREATED:20240322T175554Z
LAST-MODIFIED:20240401T224546Z
UID:73213-1712426400-1712433600@medellinguru.com
SUMMARY:Filarmed Presents: A Concert Between Two Worlds and Four Emotions
DESCRIPTION:A Concert Between Two Worlds and Four Emotions\nMusic is a powerful way to connect different worlds. Under the direction of David Greilsammer\, the Medellín Philharmonic Orchestra (formally Orquesta Filarmónica de Medellín\, also known as Filarmed) presents their third seasonal concert where European music meets Latin American music\, in four musical moments: \nEvent\nConcert\nMusic\nProgram\nFantasy\nEnergy\nPower\nAdventure\nFantasy \n🎼 Overture “A Midsummer Night’s Dream” by Felix Mendelssohn\nEnergy \n🎼 “Cello Concerto in D Minor” by Édouard Lalo\nPower \n🎼 “Rio Abajo” by Juan David Osorio\nAdventure \n🎼 “Symphony No. 7” by Antonin Dvořák\nInformation about the Concert\nCity\nMedellín\, Antioquia \nLocation\nTeatro Metropolitano de Medellín \nTickets\n$ 23 USD\n\n \nDate\nApril 6\, 2024 \nTime\n6:00 PM \nOrganizer\nOrquesta Filarmónica de Medellín – Filarmed \nDon’t miss out\nFilarmed presents cello rockstar Santiago Cañón-Valencia\, who has been awarded the BCC Next Generation Artist 2022 award\, among others\, returns to Medellín to connect with the city and his orchestra as the star soloist of the night. \nFilarmed Concert on April 6\, 2024
URL:https://medellinguru.com/event/filarmed-third-seasonal-concert-2024/
LOCATION:Private: Teatro Metropolitano de Medellín\, Calle 41 No. 57 - 30\, Medellín\, Antioquia\, 050012\, Colombia
CATEGORIES:Culture,Music festivals
ATTACH;FMTTYPE=image/jpeg:https://medellinguru.com/wp-content/uploads/2024/03/filarmed-concerts-april-6.jpg
ORGANIZER;CN="Orquesta Filarm%C3%B3nica de Medell%C3%ADn - Filarmed":MAILTO:marketingdigital@filarmed.org
END:VEVENT
END:VCALENDAR