BEGIN:VCALENDAR
VERSION:2.0
PRODID:-//Medellin Guru - ECPv6.15.12.2//NONSGML v1.0//EN
CALSCALE:GREGORIAN
METHOD:PUBLISH
X-ORIGINAL-URL:https://medellinguru.com
X-WR-CALDESC:Events for Medellin Guru
REFRESH-INTERVAL;VALUE=DURATION:PT1H
X-Robots-Tag:noindex
X-PUBLISHED-TTL:PT1H
BEGIN:VTIMEZONE
TZID:America/Bogota
BEGIN:STANDARD
TZOFFSETFROM:-0500
TZOFFSETTO:-0500
TZNAME:-05
DTSTART:20230101T000000
END:STANDARD
END:VTIMEZONE
BEGIN:VEVENT
DTSTART;TZID=America/Bogota:20241116T070000
DTEND;TZID=America/Bogota:20241116T230000
DTSTAMP:20260419T101153
CREATED:20241101T215758Z
LAST-MODIFIED:20241108T191415Z
UID:88458-1731740400-1731798000@medellinguru.com
SUMMARY:LUMEN Foro de Inversión Inmobiliaria
DESCRIPTION:You are invited to explore the captivating world of real estate investment at this exclusive event\, which brings together top industry experts to share their insights\, experiences\, and valuable perspectives. This gathering offers a unique opportunity to learn\, connect\, and uncover the best market opportunities\, guiding participants toward the future of their investments. \nAbout LUMEN Real Estate Investment Forum\nThe brightest minds in the Colombian Real Estate market will come together to share their stories\, visions\, and insider secrets regarding investing. Join us on Saturday\, November 16\, at Hotel Diez in El Poblado\, Medellín\, for an exclusive event designed to inspire and empower.\nEquip yourself with essential tools and knowledge to make informed investment decisions. Expand your professional network\, building meaningful connections to support and enhance your investment journey. \nWhat will you find at the Conference?\nExpert Panels: Gain insights from industry leaders\, including private equity fund managers\, real estate developers\, professional operators\, and asset managers\, sharing their expertise and strategies.\nBusiness Roundtable: Connect directly with potential partners and discover top investment opportunities\, creating valuable synergies to advance your goals.\nExhibition Stands: Explore innovative and high-potential projects where you can make impactful investments. \n		\n			\n					\n				\n				\n							\n				\n					\n				Event			\n					\n				Conference			\n					\n				Workshop			\n					\n				Networking			\n						\n					Itinerary\n					\n						\n				\n				\n				\n					Welcome Event: Friday 15th				\n				\n				\n				\n									\n\n20:30-22:00 Networking Kickoff\n								\n				\n				\n				\n					Main Event: Saturday 16th				\n				\n				\n				\n							\n			\n									Morning\n									Afternoon\n									Evening\n							\n			\n									Morning\n					\n\n\n7:30-8:00 Welcome and Opening Remarks\n8:00-8:40 Panel: Short-Term Investment Trends\n8:40-9:20 Panel: Long-Term Investment Trends\n9:20-9:40 Break\n9:40-10:20 Panel: Sports and Music – Investing with Passion\n10:20-11:00 Discussion: Alternative Investment Options\n11:00-11:40 Panel: Financing Sources\n11:40-12:20 Panel: Sustainable Tourism\n\n\n\n\n									Afternoon\n					\n\n\n\n12:20-13:00 Panel: Industry 4.0 in Real Estate\n13:00-14:00 Lunch Break\n14:00-14:30 ESG Sustainability\n14:30-15:00 Attracting Foreign Investment\n15:00-15:30 Asset Management\n15:30-16:00 Break\n16:00-16:30 Investing in U.S. Multifamily Real Estate\n16:30-17:30 Battle Pitch: Project Showcase\n\n\n\n\n									Evening\n					\n\n\n18:00-23:00 Closing Networking Session\n\n							\n		\n						\n				\n				\n				\n									\n\n\n  Morning Activities\n  7:30-8:00 Welcome and Opening Remarks\n  8:00-8:40 Panel: Short-Term Investment Trends\n  8:40-9:20 Panel: Long-Term Investment Trends\n  9:20-9:40 Break\n  9:40-10:20 Panel: Sports and Music – Investing with Passion\n  10:20-11:00 Discussion: Alternative Investment Options\n  11:00-11:40 Panel: Financing Sources\n  11:40-12:20 Panel: Sustainable Tourism\n\n\n\n  Afternoon Activities\n  12:20-13:00 Panel: Industry 4.0 in Real Estate\n  13:00-14:00 Lunch Break\n  14:00-14:30 ESG Sustainability\n  14:30-15:00 Attracting Foreign Investment\n  15:00-15:30 Asset Management\n  15:30-16:00 Break\n  16:00-16:30 Investing in U.S. Multifamily Real Estate\n  16:30-17:30 Battle Pitch: Project Showcase\n\n\n\n  Evening Activities\n  18:00-23:00 Closing Networking Session\n\n								\n				\n					\n				\n				\n		\nSpeakers\n		\n			\n					\n				\n				\n					\n\n      \n      \n         \n                           \n                  \n   \n   	   		\n              \n            \n                                                                        \n   		\n   		\n      \n   		   			\n               Lisandro León Liguori   \n            \n   		   		   			Co-founder of AMEK GroupAn innovative luxury-focused hotel group that includes AKEN Hotels & Resorts among its brands.\n   		   	\n   		\n\n               \n                           \n                  \n   \n   	   		\n              \n            \n                                                                        \n   		\n   		\n      \n   		   			\n               Nicolás Pérez   \n            \n   		   		   			Blockchain technology expert\, full-stack developer with extensive experience in developing disruptive applications.\n   		   	\n   		\n\n               \n                           \n                  \n   \n   	   		\n              \n            \n                                                                        \n   		\n   		\n      \n   		   			\n               Ana María Estrada   \n            \n   		   		   			Seven years of experience in the real estate sector\, leading the Property Management division of Gutierrez Group and participating in the structuring of projects focused on rentals and tourism.\n   		   	\n   		\n\n               \n                           \n                  \n   \n   	   		\n              \n            \n                                                                        \n   		\n   		\n      \n   		   			\n               Esteban Posada   \n            \n   		   		   			Founding Partner of Grupo Altica S.A.S.Over 20 years of experience in the financial sector. Former National Manager of the Construction Segment at Scotiabank Colpatria. Partner at Estructuras y Desarrollos S.A. (Real Estate Developer) and Consulting Partner at Vínculo Consulting.\n   		   	\n   		\n\n               \n                           \n                  \n   \n   	   		\n              \n            \n                                                                        \n   		\n   		\n      \n   		   			\n               Juan José Aramburo   \n            \n   		   		   			CEO of DrimLeading an innovative vision in the Colombian real estate sector since 2012. Based in Medellín\, he promotes developments that combine hospitality and sustainability\, such as Wake\, the first carbon-neutral project in the city\, among others.\n   		   	\n   		\n\n               \n                           \n                  \n   \n   	   		\n              \n            \n                                                                        \n   		\n   		\n      \n   		   			\n               Luis Restrepo   \n            \n   		   		   			Investor for 16 years\, founder of the community Soy Rico with over 4\,000 students across more than 12 countries.\n   		   	\n   		\n\n               \n                           \n                  \n   \n   	   		\n              \n            \n                                                                        \n   		\n   		\n      \n   		   			\n               Daniel Toro   \n            \n   		   		   			CEO of Man&Obra and Link-U VenturesWith over 12 years of experience in the venture capital industry\, leading successful investments in sectors like foodtech\, fintech\, proptech\, and more\, I channel investments into the real estate sector and startups.\n   		   	\n   		\n\n               \n                           \n                  \n   \n   	   		\n              \n            \n                                                                        \n   		\n   		\n      \n   		   			\n               David González   \n            \n   		   		   			Investment Director for a family office of artists Extensive experience in financial and wealth management. Has supported major investments in Colombia and the USA.\n   		   	\n   		\n\n               \n                           \n                  \n   \n   	   		\n              \n            \n                                                                        \n   		\n   		\n      \n   		   			\n               Juan Fernando Vélez   \n            \n   		   		   			Investment Director for a family office. Business Engineer\, specialist in economics. Formerly at BTG Pactual.\n   		   	\n   		\n\n               \n                           \n                  \n   \n   	   		\n              \n            \n                                                                        \n   		\n   		\n      \n   		   			\n               Alejandro Uribe   \n            \n   		   		   			Expert in the valuation of complex real estate assets\, including mixed-use developments\, corporate buildings\, and non-traditional use assets\, among others.\n   		   	\n   		\n\n               \n                           \n                  \n   \n   	   		\n              \n            \n                                                                        \n   		\n   		\n      \n   		   			\n               Daniel Jaramillo   \n            \n   		   		   			CEO of Strategic Properties DevelopmentsVisionary leader in real estate investment and management\, innovation\, and excellence. Co-founder of SP Developments.\n   		   	\n   		\n\n               \n                           \n                  \n   \n   	   		\n              \n            \n                                                                        \n   		\n   		\n      \n   		   			\n               Nicolás Rodríguez   \n            \n   		   		   			Director of ACI MedellínInvestment Director at ACI Medellín\, leading the investment attraction strategy for the region\, with over 10 years of experience in entrepreneurship and innovation projects\, international business\, foreign direct investment\, and global marketing in entities like Procolombia\, Ruta N\, and Innpulsa.\n   		   	\n   		\n\n               \n                           \n                  \n   \n   	   		\n              \n            \n                                                                        \n   		\n   		\n      \n   		   			\n               Sergio Mejía   \n            \n   		   		   			Pro-Investments Director. Multifamily Office Director focused on supporting athletes in developing their asset protection and growth strategies.\n   		   	\n   		\n\n               \n                           \n                  \n   \n   	   		\n              \n            \n                                                                        \n   		\n   		\n      \n   		   			\n               Jaime Aristizábal   \n            \n   		   		   			Founder and CEO at expatgroup.coWith years of experience in guiding foreigners through immigration processes\, real estate investments\, and business creation\, Jaime has built expatgroup.co into a trusted resource for those looking to establish their lives in Colombia. \n   		   	\n   		\n\n               \n                           \n                  \n   \n   	   		\n              \n            \n                                                                        \n   		\n   		\n      \n   		   			\n               Isabella Wuman   \n            \n   		   		   			Super Connector | Founder @parceroscommunity Community Builder and Expert.\n   		   	\n   		\n\n               \n                           \n                  \n   \n   	   		\n              \n            \n                                                                        \n   		\n   		\n      \n   		   			\n               Pablo Tirado   \n            \n   		   		   			Founder of 360LateralBusiness Administrator\, and Finance Specialist with 11 years of experience in the construction and banking sectors. Through 360Lateral\, he is transforming the industry with disruptive solutions\, driving new real estate developments and asset management.\n   		   	\n   		\n\n               \n                           \n                  \n   \n   	   		\n              \n            \n                                                                        \n   		\n   		\n      \n   		   			\n               Estefanía Correa   \n            \n   		   		   			Commercial Director at ComercialiseBusiness Engineer from EIA; expert in retail commercial management of local businesses.\n   		   	\n   		\n\n               \n                           \n                  \n   \n   	   		\n              \n            \n                                                                        \n   		\n   		\n      \n   		   			\n               Mateo Castrillón   \n            \n   		   		   			La Casa del Lago El PeñolCo-Founder of Man& Obra. Industrial Engineer\, specialized in hotel real estate project management.\n   		   	\n   		\n\n               \n                           \n                  \n   \n   	   		\n              \n            \n                                                                        \n   		\n   		\n      \n   		   			\n               Juan Saldarriaga   \n            \n   		   		   			Founder of 360Lateral and BIMBAUCo-Founder of Man& Obra. Industrial Engineer\, specialized in hotel real estate project management.
URL:https://medellinguru.com/event/lumen-foro-de-inversion-inmobiliaria/
LOCATION:Hotel Diez\, Cl 10A #34-11\, Medellín\, Antioquia\, 050021\, Colombia
CATEGORIES:Conferences,Networking,Workshops
ATTACH;FMTTYPE=image/jpeg:https://medellinguru.com/wp-content/uploads/2024/11/LUMEN-Foro-de-Inversion-Inmobiliaria-Real-Estate-Investment-Forum.jpg
END:VEVENT
BEGIN:VEVENT
DTSTART;VALUE=DATE:20241017
DTEND;VALUE=DATE:20241020
DTSTAMP:20260419T101156
CREATED:20241010T125337Z
LAST-MODIFIED:20241010T130102Z
UID:88353-1729123200-1729382399@medellinguru.com
SUMMARY:Congress in Medellin: AMWC Latinoamérica
DESCRIPTION:Discover the Future of Aesthetic and Anti-Aging Medicine at AMWC Latinoamérica.\n\nThe World Congress of Aesthetic Medicine and Anti-Aging (AMWC) is an internationally renowned event held annually in Monaco\, and now it’s making its way to Latin America. This exciting version takes place in Medellín\, Colombia\, from October 17 to October 19\, 2024\, from 9:00 AM to 6:00 PM at the Centro de Convenciones Plaza Mayor. \nAMWC Latinoamérica is dedicated to continuing medical education and fostering meaningful professional connections. This congress serves as a vital platform for healthcare professionals to share knowledge\, explore the latest trends\, and discover groundbreaking advancements in the field of aesthetic and anti-aging medicine. \nParticipants will have the unique opportunity to engage with leading experts and opinion leaders\, contributing to the growth and development of this dynamic industry. Attendees can expect a rich program featuring lectures\, workshops\, and discussions that cover a wide array of topics relevant to the latest practices and innovations. \nDon’t miss this chance to connect with peers\, expand professional networks\, and enhance expertise in aesthetic medicine. AMWC Latinoamérica is not just an event; it’s a pivotal gathering for those passionate about shaping the future of the field. Join the conversation and be part of this transformative experience. \nJoin our networking group in Colombia on Facebook\n		\n				\n					\n		\n				\n				\n							\n					\n				\n				\n			\n							\n				\n									\n						Colombia Expats Networking Hub					\n				\n									\n						🌟 Welcome to Colombia Expats Networking Hub! 🌎 Join to our community where you can connect with fellow expatriates\, share your experiences\, and gather invaluable insights about your life in Colombia. 🌆					\n				\n									\n					\n						Join Now!
URL:https://medellinguru.com/event/amwc-latinoamerica/
LOCATION:Private: Plaza Mayor\, Calle 41 N° 55-80\, Medellín\, Antioquia\, Colombia
CATEGORIES:Conferences,Healthcare
ATTACH;FMTTYPE=image/jpeg:https://medellinguru.com/wp-content/uploads/2024/10/AMWC-Latinoamerica.jpg
ORGANIZER;CN="Euromedicom - Informa Markets - CE":MAILTO:amwcla@ce.com.co
END:VEVENT
END:VCALENDAR